BEGIN:VCALENDAR
VERSION:2.0
PRODID:-//Otepää Raamatukogu - ECPv6.15.20//NONSGML v1.0//EN
CALSCALE:GREGORIAN
METHOD:PUBLISH
X-WR-CALNAME:Otepää Raamatukogu
X-ORIGINAL-URL:https://raamatukogu.otepaa.ee
X-WR-CALDESC:Events for Otepää Raamatukogu
REFRESH-INTERVAL;VALUE=DURATION:PT1H
X-Robots-Tag:noindex
X-PUBLISHED-TTL:PT1H
BEGIN:VTIMEZONE
TZID:Europe/Tallinn
BEGIN:DAYLIGHT
TZOFFSETFROM:+0200
TZOFFSETTO:+0300
TZNAME:EEST
DTSTART:20220327T010000
END:DAYLIGHT
BEGIN:STANDARD
TZOFFSETFROM:+0300
TZOFFSETTO:+0200
TZNAME:EET
DTSTART:20221030T010000
END:STANDARD
BEGIN:DAYLIGHT
TZOFFSETFROM:+0200
TZOFFSETTO:+0300
TZNAME:EEST
DTSTART:20230326T010000
END:DAYLIGHT
BEGIN:STANDARD
TZOFFSETFROM:+0300
TZOFFSETTO:+0200
TZNAME:EET
DTSTART:20231029T010000
END:STANDARD
BEGIN:DAYLIGHT
TZOFFSETFROM:+0200
TZOFFSETTO:+0300
TZNAME:EEST
DTSTART:20240331T010000
END:DAYLIGHT
BEGIN:STANDARD
TZOFFSETFROM:+0300
TZOFFSETTO:+0200
TZNAME:EET
DTSTART:20241027T010000
END:STANDARD
BEGIN:DAYLIGHT
TZOFFSETFROM:+0200
TZOFFSETTO:+0300
TZNAME:EEST
DTSTART:20250330T010000
END:DAYLIGHT
BEGIN:STANDARD
TZOFFSETFROM:+0300
TZOFFSETTO:+0200
TZNAME:EET
DTSTART:20251026T010000
END:STANDARD
END:VTIMEZONE
BEGIN:VEVENT
DTSTART;VALUE=DATE:20240122
DTEND;VALUE=DATE:20240201
DTSTAMP:20260423T012453
CREATED:20240119T191129Z
LAST-MODIFIED:20240226T143642Z
UID:2084-1705881600-1706745599@raamatukogu.otepaa.ee
SUMMARY:"Mihkel Raud - 55" Väljapanek juubilari loomingust.
DESCRIPTION:Mihkel Raud on eesti laulja\, kitarrist\, endine poliitik\, ajakirjanik ja kirjanik. 2008. aastal ilmus tema autobiograafia “Musta pori näkku”\, milles kujutab naturalistlikult rokkansamblites mängimise aega 1980. aastatel. Teost saatis ülisuur müügiedu\, paari esimese kuuga osteti seda üle 30 000 eksemplari. \n 
URL:https://raamatukogu.otepaa.ee/sundmused/mihkel-raud-55-valjapanek-juubilari-loomingust/
LOCATION:Kuigatsi raamatukogu\, Kuigatsi Raamatukogu\, Kuigatsi\, 68222\, Eesti
ATTACH;FMTTYPE=image/png:https://raamatukogu.otepaa.ee/wp-content/uploads/2024/01/Mihkel-Raud-55.png
END:VEVENT
BEGIN:VEVENT
DTSTART;VALUE=DATE:20240108
DTEND;VALUE=DATE:20240301
DTSTAMP:20260423T012453
CREATED:20240119T185222Z
LAST-MODIFIED:20240226T143654Z
UID:2078-1704672000-1709251199@raamatukogu.otepaa.ee
SUMMARY:XVII Nukitsa konkurss
DESCRIPTION:Eesti Lastekirjanduse Keskus kutsub 5–13-aastaseid lugejaid valima Nukitsa konkursil oma lemmikkirjanikku ja -illustraatorit. Hääletada saab 8. jaanuarist kuni 29. veebruarini 2024 nii raamatukogudes üle Eesti kui keskuse veebilehel.\n \n\n\nhttps://elk.ee/lastekirjandus/auhinnad-voistlused/nukitsa-konkurss-2/xvii-nukitsa-konkurss/xvii-nukitsa-konkursi-haaletusvorm/
URL:https://raamatukogu.otepaa.ee/sundmused/xvii-nukitsa-konkurss/
LOCATION:Kuigatsi raamatukogu\, Kuigatsi Raamatukogu\, Kuigatsi\, 68222\, Eesti
ATTACH;FMTTYPE=image/png:https://raamatukogu.otepaa.ee/wp-content/uploads/2024/01/Nukits_2023_FB_Event_Cover_1920x1005px-01.png
END:VEVENT
BEGIN:VEVENT
DTSTART;VALUE=DATE:20240101
DTEND;VALUE=DATE:20240201
DTSTAMP:20260423T012453
CREATED:20240109T140406Z
LAST-MODIFIED:20240226T143707Z
UID:2073-1704067200-1706745599@raamatukogu.otepaa.ee
SUMMARY:Otepää Linnaraamatukogus näitused "Kirjanik ja lavastaja MATI UNT 80 ja "Tahan kõike teada"
DESCRIPTION:
URL:https://raamatukogu.otepaa.ee/sundmused/otepaa-linnaraamatukogus-naitused-kirjanik-ja-lavastaja-mati-unt-80-ja-tahan-koike-teada/
LOCATION:Otepää Linnaraamatukogu\, Lipuväljak 13\, Otepää\, 67403\, Eesti
ATTACH;FMTTYPE=image/png:https://raamatukogu.otepaa.ee/wp-content/uploads/2024/01/Blue-White-Snow-Hello-Winter-Instagram-Story-min.png
ORGANIZER;CN="Otep%C3%A4%C3%A4 Linnaramatukogu":MAILTO:Otepaa.Linnaraamatukogu@otepaa.ee
END:VEVENT
BEGIN:VEVENT
DTSTART;VALUE=DATE:20231213
DTEND;VALUE=DATE:20231214
DTSTAMP:20260423T012453
CREATED:20231210T210125Z
LAST-MODIFIED:20231210T210125Z
UID:1940-1702425600-1702511999@raamatukogu.otepaa.ee
SUMMARY:Puka raamatukogu jõulutunnis Puka kooli 1. klass koos klassijuhatajaga. Meisterdame paberehteid\, loeme ja joonistame.
DESCRIPTION:
URL:https://raamatukogu.otepaa.ee/sundmused/puka-raamatukogu-joulutunnis-puka-kooli-1-klass-koos-klassijuhatajaga-meisterdame-paberehteid-loeme-ja-joonistame/
LOCATION:Puka raamatukogu\, Kooli 6\, Puka\, Eesti
ORGANIZER;CN="Puka raamatukogu":MAILTO:Ene.Markov@otepaa.ee
END:VEVENT
BEGIN:VEVENT
DTSTART;VALUE=DATE:20231208
DTEND;VALUE=DATE:20231229
DTSTAMP:20260423T012453
CREATED:20231210T210942Z
LAST-MODIFIED:20240226T143725Z
UID:1944-1701993600-1703807999@raamatukogu.otepaa.ee
SUMMARY:Puka raamatukogus raamatunäitused detsembris
DESCRIPTION:
URL:https://raamatukogu.otepaa.ee/sundmused/puka-raamatukogus-raamatunaitused-detsembris/
LOCATION:Puka raamatukogu\, Kooli 6\, Puka\, Eesti
ATTACH;FMTTYPE=image/png:https://raamatukogu.otepaa.ee/wp-content/uploads/2023/12/dets-pilt-rams-min.png
ORGANIZER;CN="Puka raamatukogu":MAILTO:Ene.Markov@otepaa.ee
END:VEVENT
BEGIN:VEVENT
DTSTART;VALUE=DATE:20231204
DTEND;VALUE=DATE:20231230
DTSTAMP:20260423T012453
CREATED:20231202T151201Z
LAST-MODIFIED:20240226T143739Z
UID:1899-1701648000-1703894399@raamatukogu.otepaa.ee
SUMMARY:Pühajärve raamatukogus raamatunäitus "Jõuluootus" 04.-29. detsember
DESCRIPTION:
URL:https://raamatukogu.otepaa.ee/sundmused/puhajarve-raamatukogus-raamatunaitus-jouluootus-04-29-detsember/
LOCATION:Pühajärve raamatukogu\, Pühajärve põhikool\, Sihva\, Eesti
ATTACH;FMTTYPE=image/png:https://raamatukogu.otepaa.ee/wp-content/uploads/2023/12/Jouluootus-min.png
ORGANIZER;CN="P%C3%BChaj%C3%A4rve raamatukogu":MAILTO:Ly.Haaviste@otepaa.ee
END:VEVENT
BEGIN:VEVENT
DTSTART;VALUE=DATE:20231204
DTEND;VALUE=DATE:20231228
DTSTAMP:20260423T012453
CREATED:20231202T151542Z
LAST-MODIFIED:20240226T143752Z
UID:1903-1701648000-1703721599@raamatukogu.otepaa.ee
SUMMARY:Kuigatsi raamatukogus väljapanek Lydia Koidula 180 ja raamatunäitus "Ilus jõuluaeg"
DESCRIPTION:
URL:https://raamatukogu.otepaa.ee/sundmused/kuigatsi-raamatukogus-valjapanek-lydia-koidula-180-ja-raamatunaitus-ilus-jouluaeg/
LOCATION:Kuigatsi raamatukogu\, Kuigatsi Raamatukogu\, Kuigatsi\, 68222\, Eesti
ATTACH;FMTTYPE=image/png:https://raamatukogu.otepaa.ee/wp-content/uploads/2023/12/Detsember-2023-min.png
END:VEVENT
BEGIN:VEVENT
DTSTART;VALUE=DATE:20231201
DTEND;VALUE=DATE:20240101
DTSTAMP:20260423T012453
CREATED:20231206T120042Z
LAST-MODIFIED:20240226T143809Z
UID:1920-1701388800-1704067199@raamatukogu.otepaa.ee
SUMMARY:Otepää Linnaraamatukogus näitused "Esivanemate saadetud pühadekaardid" ja  "Päkkapikkude põnevad päevad".
DESCRIPTION:
URL:https://raamatukogu.otepaa.ee/sundmused/otepaa-linnaraamatukogus-naitused-esivanemate-saadetud-puhadekaardid-ja-pakkapikkude-ponevad-paevad/
LOCATION:Otepää Linnaraamatukogu\, Lipuväljak 13\, Otepää\, 67403\, Eesti
ATTACH;FMTTYPE=image/png:https://raamatukogu.otepaa.ee/wp-content/uploads/2023/12/christmas-white-1-min.png
ORGANIZER;CN="Otep%C3%A4%C3%A4 Linnaramatukogu":MAILTO:Otepaa.Linnaraamatukogu@otepaa.ee
END:VEVENT
BEGIN:VEVENT
DTSTART;VALUE=DATE:20231127
DTEND;VALUE=DATE:20231130
DTSTAMP:20260423T012453
CREATED:20231127T102117Z
LAST-MODIFIED:20240226T143824Z
UID:1881-1701043200-1701302399@raamatukogu.otepaa.ee
SUMMARY:MIKA KERÄNEN 50 Kuigatsi raamatukogus väljapanek laste südameid võitnud menukirjaniku loomingust
DESCRIPTION: 
URL:https://raamatukogu.otepaa.ee/sundmused/mika-keranen-50-valjapanek-laste-sudameid-voitnud-menukirjaniku-loomingust/
LOCATION:Kuigatsi raamatukogu\, Kuigatsi Raamatukogu\, Kuigatsi\, 68222\, Eesti
ATTACH;FMTTYPE=image/png:https://raamatukogu.otepaa.ee/wp-content/uploads/2023/11/Mika-Keranen-50.png
END:VEVENT
BEGIN:VEVENT
DTSTART;TZID=Europe/Tallinn:20231121T170000
DTEND;TZID=Europe/Tallinn:20231121T170000
DTSTAMP:20260423T012453
CREATED:20231106T212327Z
LAST-MODIFIED:20240226T143841Z
UID:1838-1700586000-1700586000@raamatukogu.otepaa.ee
SUMMARY:Otepää raamatukogus kohtumine põlise otepäälasega\, kelle kirjanikunimi on HENRIKO UIBO
DESCRIPTION:
URL:https://raamatukogu.otepaa.ee/sundmused/otepaa-raamatukogus-kohtumine-polise-otepaalasega-kelle-kirjanikunimi-on-henriko-uibo/
LOCATION:Otepää Linnaraamatukogu\, Lipuväljak 13\, Otepää\, 67403\, Eesti
ATTACH;FMTTYPE=image/png:https://raamatukogu.otepaa.ee/wp-content/uploads/2023/11/HENRIKO-min.png
ORGANIZER;CN="Otep%C3%A4%C3%A4 Linnaramatukogu":MAILTO:Otepaa.Linnaraamatukogu@otepaa.ee
END:VEVENT
BEGIN:VEVENT
DTSTART;VALUE=DATE:20231113
DTEND;VALUE=DATE:20231114
DTSTAMP:20260423T012453
CREATED:20231113T090948Z
LAST-MODIFIED:20240226T143916Z
UID:1843-1699833600-1699919999@raamatukogu.otepaa.ee
SUMMARY:Puka raamatukogus 13.11. ettelugemine Puka kooli 3.klassile. Astrid Lindgren\, "Vahtramäe Emili uued vembud"\, Põhjamaade kirjanduse nädala raames.
DESCRIPTION:
URL:https://raamatukogu.otepaa.ee/sundmused/puka-raamatukogus-13-11-ettelugemine-puka-kooli-3-klassile-astrid-lindgren-vahtramae-emili-uued-vembud-pohjamaade-kirjanduse-nadala-raames/
LOCATION:Puka raamatukogu\, Kooli 6\, Puka\, Eesti
ORGANIZER;CN="Puka raamatukogu":MAILTO:Ene.Markov@otepaa.ee
END:VEVENT
BEGIN:VEVENT
DTSTART;VALUE=DATE:20231102
DTEND;VALUE=DATE:20231201
DTSTAMP:20260423T012453
CREATED:20231101T163724Z
LAST-MODIFIED:20240226T143947Z
UID:1809-1698883200-1701388799@raamatukogu.otepaa.ee
SUMMARY:Mika Keränen 50! Otepää lasteraamatukogus näitus
DESCRIPTION:
URL:https://raamatukogu.otepaa.ee/sundmused/mika-keranen-50-otepaa-lasteraamatukogus-naitus/
LOCATION:Otepää Linnaraamatukogu\, Lipuväljak 13\, Otepää\, 67403\, Eesti
ATTACH;FMTTYPE=image/png:https://raamatukogu.otepaa.ee/wp-content/uploads/2023/11/kera-min.png
ORGANIZER;CN="Otep%C3%A4%C3%A4 Linnaramatukogu":MAILTO:Otepaa.Linnaraamatukogu@otepaa.ee
END:VEVENT
BEGIN:VEVENT
DTSTART;VALUE=DATE:20231101
DTEND;VALUE=DATE:20231201
DTSTAMP:20260423T012453
CREATED:20231102T122139Z
LAST-MODIFIED:20240226T144010Z
UID:1834-1698796800-1701388799@raamatukogu.otepaa.ee
SUMMARY:Puka raamatukogus näitus "Põnev põhjamaade kirjandus kogu perele"
DESCRIPTION:
URL:https://raamatukogu.otepaa.ee/sundmused/puka-raamatukogus-naitus-ponev-pohjamaade-kirjandus-kogu-perele/
LOCATION:Puka Kultuurimaja\, Kesk 47\, Puka\, Eesti
ATTACH;FMTTYPE=image/png:https://raamatukogu.otepaa.ee/wp-content/uploads/2023/11/Pohjamaade-kirjandus-min.png
ORGANIZER;CN="Puka raamatukogu":MAILTO:Ene.Markov@otepaa.ee
END:VEVENT
BEGIN:VEVENT
DTSTART;VALUE=DATE:20231101
DTEND;VALUE=DATE:20231201
DTSTAMP:20260423T012453
CREATED:20231102T121817Z
LAST-MODIFIED:20240226T144044Z
UID:1829-1698796800-1701388799@raamatukogu.otepaa.ee
SUMMARY:Puka raamatukogus raamatunäitus "Isadest ja isadele" ja "Põnev Põhjamaade kirjandus kogu perele
DESCRIPTION:
URL:https://raamatukogu.otepaa.ee/sundmused/isadest-ja-isadele-ja-ponev-pohjamaade-kirjandus-kogu-perele/
LOCATION:Puka raamatukogu\, Kooli 6\, Puka\, Eesti
ATTACH;FMTTYPE=image/png:https://raamatukogu.otepaa.ee/wp-content/uploads/2023/11/isadest-ja-isadele-min.png
ORGANIZER;CN="Puka raamatukogu":MAILTO:Ene.Markov@otepaa.ee
END:VEVENT
BEGIN:VEVENT
DTSTART;VALUE=DATE:20231101
DTEND;VALUE=DATE:20231201
DTSTAMP:20260423T012453
CREATED:20231102T121724Z
LAST-MODIFIED:20240226T144151Z
UID:1824-1698796800-1701388799@raamatukogu.otepaa.ee
SUMMARY:Puka raamatukogus raamatunäitus "November rahvakalendris - hingedepäevast kadripäevani"
DESCRIPTION:
URL:https://raamatukogu.otepaa.ee/sundmused/november-rahvakalendris-hingedepaevast-kadripaevani/
LOCATION:Puka raamatukogu\, Kooli 6\, Puka\, Eesti
ATTACH;FMTTYPE=image/png:https://raamatukogu.otepaa.ee/wp-content/uploads/2023/11/November-rahvakalendris-min.png
ORGANIZER;CN="Puka raamatukogu":MAILTO:Ene.Markov@otepaa.ee
END:VEVENT
BEGIN:VEVENT
DTSTART;VALUE=DATE:20231101
DTEND;VALUE=DATE:20231201
DTSTAMP:20260423T012453
CREATED:20231101T163948Z
LAST-MODIFIED:20240226T144214Z
UID:1811-1698796800-1701388799@raamatukogu.otepaa.ee
SUMMARY:Tähed tahavad sõnaks. Hando Runnel 85! Otepää linnaraamatugus näitus.
DESCRIPTION:
URL:https://raamatukogu.otepaa.ee/sundmused/tahed-tahavad-sonaks-hando-runnel-85-otepaa-linnaraamatugus-naitus/
LOCATION:Otepää Linnaraamatukogu\, Lipuväljak 13\, Otepää\, 67403\, Eesti
ATTACH;FMTTYPE=image/png:https://raamatukogu.otepaa.ee/wp-content/uploads/2023/11/runnel-min.png
ORGANIZER;CN="Otep%C3%A4%C3%A4 Linnaramatukogu":MAILTO:Otepaa.Linnaraamatukogu@otepaa.ee
END:VEVENT
BEGIN:VEVENT
DTSTART;VALUE=DATE:20231024
DTEND;VALUE=DATE:20231109
DTSTAMP:20260423T012453
CREATED:20231023T163824Z
LAST-MODIFIED:20240226T144238Z
UID:1762-1698105600-1699487999@raamatukogu.otepaa.ee
SUMMARY:Kuigatsi raamatukogus näitus romaani "Tõde ja õigus" tegelaste iseloomuomadustest.
DESCRIPTION:Kuigatsi raamatukogus näitus romaani “Tõde ja õigus” tegelaste iseloomuomadustest. Sel kevadel lõpetas Krista Tomson Tartu Ülikooli semiootika ja kultuuriteooria eriala magistriprojektiga „Romaani „Tõde ja õigus” tegelaste lugejakeskne analüüs”\, mille eesmärgiks oli välja selgitada\, kuidas romaani lugejad tunnetavad iseenda ning romaani tegelaste isiksusi ning kas nad tunnevad ka tegelastega sidet.  Näitus kutsub inimesi mõtisklema iseenda ning romaani “Tõde ja õigus” tegelaste iseloomuomaduste peale. Selle keskmes on iseloomuomaduste postrid\, mis annavad ülevaate Suure Viisiku faktoritest ning seal olevatelt skaaladelt saab näha\, kus asuvad raamatu tegelased ja valimi keskmine lugeja. Näituse külastaja saab mõelda\, kuhu ta iseenda asetaks ning kõikide viie iseloomuomaduse plakati juurest läbi käies analüüsida\, mis tegelase moodi ta kõige enam on. \n 
URL:https://raamatukogu.otepaa.ee/sundmused/kuigatsi-raamatukogus-naitus-romaani-tode-ja-oigus-tegelaste-iseloomuomadustest/
LOCATION:Kuigatsi raamatukogu\, Kuigatsi Raamatukogu\, Kuigatsi\, 68222\, Eesti
ATTACH;FMTTYPE=image/png:https://raamatukogu.otepaa.ee/wp-content/uploads/2023/10/22Tode-ja-oigus22.png
END:VEVENT
BEGIN:VEVENT
DTSTART;VALUE=DATE:20231024
DTEND;VALUE=DATE:20231025
DTSTAMP:20260423T012453
CREATED:20231023T163432Z
LAST-MODIFIED:20231023T163432Z
UID:1758-1698105600-1698191999@raamatukogu.otepaa.ee
SUMMARY:Kell 10.30 Pühajärve Põhikooli lasteaia vanemas rühmas raamatusündmus "Lugusid jutukorvist". Ilmar Tomuski raamatu "Julius\, mida sina suvel tegid?" põhjal.
DESCRIPTION:24.10.23 kell 10.30 Pühajärve Põhikooli lasteaia vanemas rühmas raamatusündmus “Lugusid jutukorvist”. Ilmar Tomuski raamatu “Julius\, mida sina suvel tegid?” põhjal. Korraldab: Pühajärve raamatukogu. Lisainfo: Ly Haaviste
URL:https://raamatukogu.otepaa.ee/sundmused/kell-10-30-puhajarve-pohikooli-lasteaia-vanemas-ruhmas-raamatusundmus-lugusid-jutukorvist-ilmar-tomuski-raamatu-julius-mida-sina-suvel-tegid-pohjal/
END:VEVENT
BEGIN:VEVENT
DTSTART;VALUE=DATE:20231019
DTEND;VALUE=DATE:20231020
DTSTAMP:20260423T012453
CREATED:20231005T220518Z
LAST-MODIFIED:20231005T220518Z
UID:1738-1697673600-1697759999@raamatukogu.otepaa.ee
SUMMARY:Pühajärve Põhikoolis külas kirjanik ILMAR TOMUSK
DESCRIPTION: 19. oktoobril kell 12.40 \n  Pühajärve Põhikoolis külas kirjanik  \n       ILMAR TOMUSK \n Võimalus osta kirjaniku raamatuid hinnaga 10 eurot.
URL:https://raamatukogu.otepaa.ee/sundmused/puhajarve-pohikoolis-kulas-kirjanik-ilmar-tomusk/
END:VEVENT
BEGIN:VEVENT
DTSTART;VALUE=DATE:20231017
DTEND;VALUE=DATE:20231116
DTSTAMP:20260423T012453
CREATED:20231025T131728Z
LAST-MODIFIED:20231025T131754Z
UID:1779-1697500800-1700092799@raamatukogu.otepaa.ee
SUMMARY:Pühajärve Raamatukogus raamatunäitus "Iseenda ja kaasteelistega tuttavamaks - psühholoogia- ja eneseabikirjandus"
DESCRIPTION:
URL:https://raamatukogu.otepaa.ee/sundmused/17-okt-15-nov-puhajarve-raamatukogus-raamatunaitus-iseenda-ja-kaasteelistega-tuttavamaks-psuhholoogia-ja-eneseabikirjandus/
LOCATION:Pühajärve raamatukogu\, Pühajärve põhikool\, Sihva\, Eesti
END:VEVENT
BEGIN:VEVENT
DTSTART;VALUE=DATE:20231010
DTEND;VALUE=DATE:20231031
DTSTAMP:20260423T012453
CREATED:20231023T162407Z
LAST-MODIFIED:20240226T144352Z
UID:1755-1696896000-1698710399@raamatukogu.otepaa.ee
SUMMARY:Puka raamatukogus raamatunäitused Lehte Hainsalu ja Valev Uibopuu loomingust ning „Oktoober – vaimse tervise kuu“
DESCRIPTION:Puka raamatukogus raamatunäitused Lehte Hainsalu ja Valev Uibopuu loomingust ning „Oktoober – vaimse tervise kuu“\n  \n 
URL:https://raamatukogu.otepaa.ee/sundmused/puka-raamatukogus-raamatunaitused-lehte-hainsalu-ja-valev-uibopuu-loomingust-ning-oktoober-vaimse-tervise-kuu/
LOCATION:Puka raamatukogu\, Kooli 6\, Puka\, Eesti
ATTACH;FMTTYPE=image/png:https://raamatukogu.otepaa.ee/wp-content/uploads/2023/10/Raamatunaitused-Puka-raamatukogus10_2023.png
ORGANIZER;CN="Puka raamatukogu":MAILTO:Ene.Markov@otepaa.ee
END:VEVENT
BEGIN:VEVENT
DTSTART;VALUE=DATE:20231009
DTEND;VALUE=DATE:20231101
DTSTAMP:20260423T012453
CREATED:20231023T162128Z
LAST-MODIFIED:20231023T162437Z
UID:1753-1696809600-1698796799@raamatukogu.otepaa.ee
SUMMARY:Otepää Linnaraamatukogus raamatunäitused „Lehte Hainsalu 85“ ja „Põnevus-ja krimijutud“.
DESCRIPTION:Otepää Linnaraamatukogus raamatunäitused „Lehte Hainsalu 85“ ja „Põnevus-ja krimijutud“.
URL:https://raamatukogu.otepaa.ee/sundmused/otepaa-linnaraamatukogus-raamatunaitused-lehte-hainsalu-85-ja-ponevus-ja-krimijutud/
LOCATION:Otepää Linnaraamatukogu\, Lipuväljak 13\, Otepää\, 67403\, Eesti
ORGANIZER;CN="Otep%C3%A4%C3%A4 Linnaramatukogu":MAILTO:Otepaa.Linnaraamatukogu@otepaa.ee
END:VEVENT
BEGIN:VEVENT
DTSTART;TZID=Europe/Tallinn:20230921T160000
DTEND;TZID=Europe/Tallinn:20230921T160000
DTSTAMP:20260423T012453
CREATED:20230918T125722Z
LAST-MODIFIED:20240226T144436Z
UID:1671-1695312000-1695312000@raamatukogu.otepaa.ee
SUMMARY:Puka raamatukogus neljapäeval\, 21.09 kl 16.00 lugemisklubi kokkusaamine.
DESCRIPTION:Puka raamatukogus neljapäeval\, 21.09 kl 16.00 lugemisklubi kokkusaamine. Tutvume\nuute ja vanemate heade raamatutega\, räägime raamatukogu kirjandusvalikust\, ajame\njuttu kohvi/teelauas. \nOsavõtust palun teada anda raamatukogu lahtiolekuaegadel. \n 
URL:https://raamatukogu.otepaa.ee/sundmused/puka-raamatukogus-neljapaeval-21-09-kl-16-00-lugemisklubi-kokkusaamine/
LOCATION:Puka raamatukogu\, Kooli 6\, Puka\, Eesti
ATTACH;FMTTYPE=image/png:https://raamatukogu.otepaa.ee/wp-content/uploads/2023/09/Hearaamatusober-1-min.png
ORGANIZER;CN="Puka raamatukogu":MAILTO:Ene.Markov@otepaa.ee
END:VEVENT
BEGIN:VEVENT
DTSTART;VALUE=DATE:20230918
DTEND;VALUE=DATE:20231001
DTSTAMP:20260423T012453
CREATED:20230918T093853Z
LAST-MODIFIED:20240226T144503Z
UID:1658-1694995200-1696118399@raamatukogu.otepaa.ee
SUMMARY:Kuigats raamatukogus "Pimekohting raamatuga"
DESCRIPTION:
URL:https://raamatukogu.otepaa.ee/sundmused/pimekohting-raamatuga/
LOCATION:Kuigatsi raamatukogu\, Kuigatsi Raamatukogu\, Kuigatsi\, 68222\, Eesti
ATTACH;FMTTYPE=image/jpeg:https://raamatukogu.otepaa.ee/wp-content/uploads/2023/09/379125573_303104735699908_771845346480223102_n-jpg.webp
END:VEVENT
BEGIN:VEVENT
DTSTART;VALUE=DATE:20230911
DTEND;VALUE=DATE:20231013
DTSTAMP:20260423T012453
CREATED:20230918T094353Z
LAST-MODIFIED:20230918T094353Z
UID:1661-1694390400-1697155199@raamatukogu.otepaa.ee
SUMMARY:Pühajärve raamatukogus raamatunäitused
DESCRIPTION:Pühajärve raamatukogus raamatunäitused “Vanavanemate lapsepõlve lugemislaualt” ja “Sügishetked: looduses\, aias ja köögis\, koolis.
URL:https://raamatukogu.otepaa.ee/sundmused/puhajarve-raamatukogus-raamatunaitused/
LOCATION:Pühajärve raamatukogu\, Pühajärve põhikool\, Sihva\, Eesti
END:VEVENT
BEGIN:VEVENT
DTSTART;VALUE=DATE:20230904
DTEND;VALUE=DATE:20230922
DTSTAMP:20260423T012453
CREATED:20230918T095148Z
LAST-MODIFIED:20230918T095148Z
UID:1668-1693785600-1695340799@raamatukogu.otepaa.ee
SUMMARY:Puka raamatukogus raamatunäitused
DESCRIPTION:Puka raamatukogus raamatunäitused: “Kodused maitsed” – september – Eesti toidu kuu. \nValik loomingut: Jüri Parijõgi ja Jaan Rannap
URL:https://raamatukogu.otepaa.ee/sundmused/puka-raamatukogus-raamatunaitused/
LOCATION:Puka raamatukogu\, Kooli 6\, Puka\, Eesti
ORGANIZER;CN="Puka raamatukogu":MAILTO:Ene.Markov@otepaa.ee
END:VEVENT
BEGIN:VEVENT
DTSTART;VALUE=DATE:20230901
DTEND;VALUE=DATE:20231001
DTSTAMP:20260423T012453
CREATED:20230918T094939Z
LAST-MODIFIED:20230918T094939Z
UID:1666-1693526400-1696118399@raamatukogu.otepaa.ee
SUMMARY:Otepää Linnaraamatukogus liikumisaastale pühendatud näitus
DESCRIPTION:Otepää Linnaraamatukogus liikumisaastale pühendatud näitus “Harrastame liikumist” ja lasteosakonnas kooliaasta alguse puhul avatud näitus “Oh\, kooliaeg!”
URL:https://raamatukogu.otepaa.ee/sundmused/otepaa-linnaraamatukogus-liikumisaastale-puhendatud-naitus/
LOCATION:Otepää Linnaraamatukogu\, Lipuväljak 13\, Otepää\, 67403\, Eesti
ORGANIZER;CN="Otep%C3%A4%C3%A4 Linnaramatukogu":MAILTO:Otepaa.Linnaraamatukogu@otepaa.ee
END:VEVENT
BEGIN:VEVENT
DTSTART;VALUE=DATE:20230901
DTEND;VALUE=DATE:20231001
DTSTAMP:20260423T012453
CREATED:20230918T094709Z
LAST-MODIFIED:20230918T094709Z
UID:1664-1693526400-1696118399@raamatukogu.otepaa.ee
SUMMARY:Sangaste raamatukogus raamatute näitus
DESCRIPTION:Sangaste raamatukogus Regina Lukk-Toompere poolt illustreeritud raamatute näitus ning väljapanek raamatusarjast “Säravad naised”
URL:https://raamatukogu.otepaa.ee/sundmused/sangaste-raamatukogus-raamatute-naitus/
LOCATION:Sangaste raamatukogu\, Valga mnt 7\, Sangaste\, 67013\, Eesti
END:VEVENT
BEGIN:VEVENT
DTSTART;TZID=Europe/Tallinn:20230530T190000
DTEND;TZID=Europe/Tallinn:20230530T203000
DTSTAMP:20260423T012453
CREATED:20230524T165209Z
LAST-MODIFIED:20230524T165209Z
UID:1510-1685473200-1685478600@raamatukogu.otepaa.ee
SUMMARY:Riigikogu liige  Otepää linnaraamatukogus
DESCRIPTION:
URL:https://raamatukogu.otepaa.ee/sundmused/riigikogu-liige-otepaa-linnaraamatukogus/
LOCATION:Otepää Linnaraamatukogu\, Lipuväljak 13\, Otepää\, 67403\, Eesti
ORGANIZER;CN="Otep%C3%A4%C3%A4 Linnaramatukogu":MAILTO:Otepaa.Linnaraamatukogu@otepaa.ee
END:VEVENT
BEGIN:VEVENT
DTSTART;TZID=Europe/Tallinn:20230530T170000
DTEND;TZID=Europe/Tallinn:20230530T183000
DTSTAMP:20260423T012453
CREATED:20230524T053745Z
LAST-MODIFIED:20240226T144619Z
UID:1492-1685466000-1685471400@raamatukogu.otepaa.ee
SUMMARY:Riigikogu liige Kuigatsi raamatukogus
DESCRIPTION:
URL:https://raamatukogu.otepaa.ee/sundmused/1492/
LOCATION:Kuigatsi raamatukogu\, Kuigatsi Raamatukogu\, Kuigatsi\, 68222\, Eesti
ATTACH;FMTTYPE=image/png:https://raamatukogu.otepaa.ee/wp-content/uploads/2023/05/Igor-Taro.-Kuigatsi-Raamatukogus-min.png
END:VEVENT
END:VCALENDAR