BEGIN:VCALENDAR
VERSION:2.0
PRODID:-//Otepää Raamatukogu - ECPv6.15.20//NONSGML v1.0//EN
CALSCALE:GREGORIAN
METHOD:PUBLISH
X-WR-CALNAME:Otepää Raamatukogu
X-ORIGINAL-URL:https://raamatukogu.otepaa.ee
X-WR-CALDESC:Events for Otepää Raamatukogu
REFRESH-INTERVAL;VALUE=DURATION:PT1H
X-Robots-Tag:noindex
X-PUBLISHED-TTL:PT1H
BEGIN:VTIMEZONE
TZID:Europe/Tallinn
BEGIN:DAYLIGHT
TZOFFSETFROM:+0200
TZOFFSETTO:+0300
TZNAME:EEST
DTSTART:20240331T010000
END:DAYLIGHT
BEGIN:STANDARD
TZOFFSETFROM:+0300
TZOFFSETTO:+0200
TZNAME:EET
DTSTART:20241027T010000
END:STANDARD
BEGIN:DAYLIGHT
TZOFFSETFROM:+0200
TZOFFSETTO:+0300
TZNAME:EEST
DTSTART:20250330T010000
END:DAYLIGHT
BEGIN:STANDARD
TZOFFSETFROM:+0300
TZOFFSETTO:+0200
TZNAME:EET
DTSTART:20251026T010000
END:STANDARD
BEGIN:DAYLIGHT
TZOFFSETFROM:+0200
TZOFFSETTO:+0300
TZNAME:EEST
DTSTART:20260329T010000
END:DAYLIGHT
BEGIN:STANDARD
TZOFFSETFROM:+0300
TZOFFSETTO:+0200
TZNAME:EET
DTSTART:20261025T010000
END:STANDARD
BEGIN:DAYLIGHT
TZOFFSETFROM:+0200
TZOFFSETTO:+0300
TZNAME:EEST
DTSTART:20270328T010000
END:DAYLIGHT
BEGIN:STANDARD
TZOFFSETFROM:+0300
TZOFFSETTO:+0200
TZNAME:EET
DTSTART:20271031T010000
END:STANDARD
END:VTIMEZONE
BEGIN:VEVENT
DTSTART;TZID=Europe/Tallinn:20251016T160000
DTEND;TZID=Europe/Tallinn:20251016T180000
DTSTAMP:20260423T025548
CREATED:20251015T102449Z
LAST-MODIFIED:20251015T102703Z
UID:4216-1760630400-1760637600@raamatukogu.otepaa.ee
SUMMARY:Kohtumine kirjaniku ja koolitajaga.
DESCRIPTION:
URL:https://raamatukogu.otepaa.ee/sundmused/4216/
LOCATION:Puka raamatukogu\, Kooli 6\, Puka\, Eesti
ATTACH;FMTTYPE=image/jpeg:https://raamatukogu.otepaa.ee/wp-content/uploads/2025/10/549267de-fd87-4997-8c23-97225b44b27f-min.avif
ORGANIZER;CN="Puka raamatukogu":MAILTO:Ene.Markov@otepaa.ee
END:VEVENT
BEGIN:VEVENT
DTSTART;TZID=Europe/Tallinn:20260111T120000
DTEND;TZID=Europe/Tallinn:20260111T120000
DTSTAMP:20260423T025548
CREATED:20260105T134831Z
LAST-MODIFIED:20260105T135323Z
UID:4280-1768132800-1768132800@raamatukogu.otepaa.ee
SUMMARY:August Gailit 135
DESCRIPTION:Head August Gailiti lähedased ja austajad \nSangaste mail tähistatakse meie nimikirjaniku 135. väikese juubeli aastapäeva Sangaste Kultuurimajas 11.jaanuaril 2026\, kusjuures esinema on lubanud tulla Toomas Kiho\, Margus Kasterpalu\, Tormi Ariva ja Puka Meesansambel. Vaata lähemalt ja registreeri end https://www.facebook.com/events/2312003409303394/?acontext=%7B%22event_action_history%22%3A[%7B%22mechanism%22%3A%22your_upcoming_events_unit%22%2C%22surface%22%3A%22bookmark%22%7D]%2C%22ref_notif_type%22%3Anull%7D \nLisaks saadan ka YouTube lingi\, kus on kokku võetud meie seltsi 2025. aasta tegevus. Klõpsa https://www.youtube.com/watch?v=s5SoIVHzhOo \nTujuküllast aastavahetust ja head koostööd ka uuel aastal! \nRainer \n \n 
URL:https://raamatukogu.otepaa.ee/sundmused/august-gailit-135/
LOCATION:Sangaste Kultuurimaja\, Sangaste Kultuurimaja\, Sangaste\, Eesti
ATTACH;FMTTYPE=image/jpeg:https://raamatukogu.otepaa.ee/wp-content/uploads/2026/01/oO3Iq18l1IjbIUg9zcBcbjPp5cB5vYarSd0hiGDR15ErMgKnYmu6JogRgtqrChKa-min.avif
END:VEVENT
BEGIN:VEVENT
DTSTART;TZID=Europe/Tallinn:20260226T182600
DTEND;TZID=Europe/Tallinn:20260226T182600
DTSTAMP:20260423T025548
CREATED:20260211T113350Z
LAST-MODIFIED:20260211T115448Z
UID:4317-1772130360-1772130360@raamatukogu.otepaa.ee
SUMMARY:Otepää linnaraamatukogu avamine
DESCRIPTION:Oled oodatud Otepää linnaraamatukogu pidulikule avamisele! \nAvamisõhtul saab tutvuda uuenenud raamatukoguga ning nautida meeleolukat muusikat. Esineb Otepää vanamuusika ansambel. \nTule uudistama – kõik on oodatud!
URL:https://raamatukogu.otepaa.ee/sundmused/otepaa-linnaraamatukogu-avamine-kell-18-26/
LOCATION:Otepää Linnaraamatukogu\, Lipuväljak 13\, Otepää\, 67403\, Eesti
CATEGORIES:Üritused / Sündmused
ATTACH;FMTTYPE=image/jpeg:https://raamatukogu.otepaa.ee/wp-content/uploads/2026/02/Otepaa-raamatukogu-avamine26022026-1.avif
ORGANIZER;CN="Otep%C3%A4%C3%A4 Linnaramatukogu":MAILTO:Otepaa.Linnaraamatukogu@otepaa.ee
END:VEVENT
BEGIN:VEVENT
DTSTART;TZID=Europe/Tallinn:20260319T103000
DTEND;TZID=Europe/Tallinn:20260319T103000
DTSTAMP:20260423T025548
CREATED:20260316T101008Z
LAST-MODIFIED:20260316T101057Z
UID:4379-1773916200-1773916200@raamatukogu.otepaa.ee
SUMMARY:Raamatukogutund 2. klassile – „Tund täis mõistatusi“
DESCRIPTION:Puka raamatukogus toimub neljapäeval\, 19. märtsil kell 10.30 raamatukogutund 2. klassi õpilastele „Tund täis mõistatusi“. \nRaamatukogutundi viib läbi Ene Markov.
URL:https://raamatukogu.otepaa.ee/sundmused/raamatukogutund-2-klassile-tund-tais-moistatusi/
LOCATION:Puka raamatukogu\, Kooli 6\, Puka\, Eesti
ORGANIZER;CN="Puka raamatukogu":MAILTO:Ene.Markov@otepaa.ee
END:VEVENT
BEGIN:VEVENT
DTSTART;TZID=Europe/Tallinn:20260402T093000
DTEND;TZID=Europe/Tallinn:20260402T093000
DTSTAMP:20260423T025548
CREATED:20260330T083303Z
LAST-MODIFIED:20260330T083303Z
UID:4434-1775122200-1775122200@raamatukogu.otepaa.ee
SUMMARY:2. klassi raamatukogutund teemal „Värvilised pühad“
DESCRIPTION:📚 2. aprillil kell 9.302. klassi raamatukogutund teemal „Värvilised pühad“
URL:https://raamatukogu.otepaa.ee/sundmused/2-klassi-raamatukogutund-teemal-varvilised-puhad/
LOCATION:Puka raamatukogu\, Kooli 6\, Puka\, Eesti
ATTACH;FMTTYPE=image/jpeg:https://raamatukogu.otepaa.ee/wp-content/uploads/2026/03/ge3c703faece97edab49561e1dda1cb643733ce0ac134d0b170b576ddfdd0dc78c10d9f8398e8856c91003bd5254a00a995befd6b99af8e96d482c498a1f75847_1280-7753796.avif
ORGANIZER;CN="Puka raamatukogu":MAILTO:Ene.Markov@otepaa.ee
END:VEVENT
BEGIN:VEVENT
DTSTART;TZID=Europe/Tallinn:20260409T160000
DTEND;TZID=Europe/Tallinn:20260409T160000
DTSTAMP:20260423T025548
CREATED:20260330T083752Z
LAST-MODIFIED:20260330T084105Z
UID:4438-1775750400-1775750400@raamatukogu.otepaa.ee
SUMMARY:Raamatuesitlus ja kohtumine lugejatega.  Birgit Itse "Minu Šotimaa"
DESCRIPTION:📖 9. aprillil kell 16.00 \nRaamatuesitlus ja kohtumine lugejategaBirgit Itse raamat „Minu Šotimaa“ \n👉 Vajalik eelregistreerimine
URL:https://raamatukogu.otepaa.ee/sundmused/raamatuesitlus-ja-kohtumine-lugejatega/
LOCATION:Puka raamatukogu\, Kooli 6\, Puka\, Eesti
ATTACH;FMTTYPE=image/jpeg:https://raamatukogu.otepaa.ee/wp-content/uploads/2026/03/MinuSotimaa_big-1.avif
ORGANIZER;CN="Puka raamatukogu":MAILTO:Ene.Markov@otepaa.ee
END:VEVENT
END:VCALENDAR