BEGIN:VCALENDAR
VERSION:2.0
PRODID:-//Otepää Raamatukogu - ECPv6.15.20//NONSGML v1.0//EN
CALSCALE:GREGORIAN
METHOD:PUBLISH
X-WR-CALNAME:Otepää Raamatukogu
X-ORIGINAL-URL:https://raamatukogu.otepaa.ee
X-WR-CALDESC:Events for Otepää Raamatukogu
REFRESH-INTERVAL;VALUE=DURATION:PT1H
X-Robots-Tag:noindex
X-PUBLISHED-TTL:PT1H
BEGIN:VTIMEZONE
TZID:Europe/Tallinn
BEGIN:DAYLIGHT
TZOFFSETFROM:+0200
TZOFFSETTO:+0300
TZNAME:EEST
DTSTART:20210328T010000
END:DAYLIGHT
BEGIN:STANDARD
TZOFFSETFROM:+0300
TZOFFSETTO:+0200
TZNAME:EET
DTSTART:20211031T010000
END:STANDARD
BEGIN:DAYLIGHT
TZOFFSETFROM:+0200
TZOFFSETTO:+0300
TZNAME:EEST
DTSTART:20220327T010000
END:DAYLIGHT
BEGIN:STANDARD
TZOFFSETFROM:+0300
TZOFFSETTO:+0200
TZNAME:EET
DTSTART:20221030T010000
END:STANDARD
BEGIN:DAYLIGHT
TZOFFSETFROM:+0200
TZOFFSETTO:+0300
TZNAME:EEST
DTSTART:20230326T010000
END:DAYLIGHT
BEGIN:STANDARD
TZOFFSETFROM:+0300
TZOFFSETTO:+0200
TZNAME:EET
DTSTART:20231029T010000
END:STANDARD
END:VTIMEZONE
BEGIN:VEVENT
DTSTART;TZID=Europe/Tallinn:20221018T150000
DTEND;TZID=Europe/Tallinn:20221018T170000
DTSTAMP:20260423T040036
CREATED:20221004T112038Z
LAST-MODIFIED:20240226T145719Z
UID:598-1666105200-1666112400@raamatukogu.otepaa.ee
SUMMARY:Pühajärve Raamatukogus "Armastuse mitu palet"
DESCRIPTION:S
URL:https://raamatukogu.otepaa.ee/sundmused/sugisene-sonamaagia-raamatukogudes-2/
LOCATION:Pühajärve raamatukogu\, Pühajärve põhikool\, Sihva\, Eesti
ATTACH;FMTTYPE=image/jpeg:https://raamatukogu.otepaa.ee/wp-content/uploads/2022/10/18oktkl12Armastus-PUHAJARVE-scaled.webp
ORGANIZER;CN="P%C3%BChaj%C3%A4rve raamatukogu":MAILTO:Ly.Haaviste@otepaa.ee
END:VEVENT
BEGIN:VEVENT
DTSTART;TZID=Europe/Tallinn:20221017T190000
DTEND;TZID=Europe/Tallinn:20221017T210000
DTSTAMP:20260423T040036
CREATED:20221004T111123Z
LAST-MODIFIED:20240226T145810Z
UID:591-1666033200-1666040400@raamatukogu.otepaa.ee
SUMMARY:Nõuni Raamatukogus "Lood ajast"
DESCRIPTION:
URL:https://raamatukogu.otepaa.ee/sundmused/sugisene-sonamaagia-raamatukogudes/
LOCATION:Nõuni raamatukogu\, Nõuni kultuurimaja\, Nõuni\, Nõuni\, Eesti
ATTACH;FMTTYPE=image/jpeg:https://raamatukogu.otepaa.ee/wp-content/uploads/2022/10/17oktkl16Loodajast-NOUNI-scaled.webp
END:VEVENT
BEGIN:VEVENT
DTSTART;VALUE=DATE:20220922
DTEND;VALUE=DATE:20220924
DTSTAMP:20260423T040036
CREATED:20220919T063920Z
LAST-MODIFIED:20240226T145849Z
UID:573-1663815600-1663901999@raamatukogu.otepaa.ee
SUMMARY:22. september kell 11.30 Otepää Gümnaasiumis külas lastekirjanikud Kätlin Vainola\, Kadri Hinrikus\, Ilona Martson
DESCRIPTION:
URL:https://raamatukogu.otepaa.ee/sundmused/22-september-kell-11-30-otepaa-gumnaasiumis-kulas-lastekirjanikud-katlin-vainola-kadri-hinrikus-ilona-martson/
LOCATION:Otepää Gümnaasium\, Koolitare 5\, Otepää\, Eesti
ORGANIZER;CN="Otep%C3%A4%C3%A4 Linnaramatukogu":MAILTO:Otepaa.Linnaraamatukogu@otepaa.ee
END:VEVENT
BEGIN:VEVENT
DTSTART;VALUE=DATE:20220916
DTEND;VALUE=DATE:20220918
DTSTAMP:20260423T040036
CREATED:20220914T054548Z
LAST-MODIFIED:20240226T145920Z
UID:559-1663297200-1663383599@raamatukogu.otepaa.ee
SUMMARY:RAAMATUKOGUDE AASTA 2022! TEEMAÕHTU
DESCRIPTION: 
URL:https://raamatukogu.otepaa.ee/sundmused/raamatukogude-aasta-2022-teemaohtu/
LOCATION:Puka Kultuurimaja\, Kesk 47\, Puka\, Eesti
ORGANIZER;CN="Puka raamatukogu":MAILTO:Ene.Markov@otepaa.ee
END:VEVENT
BEGIN:VEVENT
DTSTART;TZID=Europe/Tallinn:20220531T160000
DTEND;TZID=Europe/Tallinn:20220531T160000
DTSTAMP:20260423T040036
CREATED:20220516T093505Z
LAST-MODIFIED:20240226T145953Z
UID:397-1654012800-1654012800@raamatukogu.otepaa.ee
SUMMARY:Keeni Põhikoolis külas lastekirjanik KAIRI LOOK
DESCRIPTION:
URL:https://raamatukogu.otepaa.ee/sundmused/kulas-lastekirjanik-kairi-look-2/
LOCATION:Keeni kool\, Kooli tee 2\, Keeni\, Eesti
END:VEVENT
BEGIN:VEVENT
DTSTART;TZID=Europe/Tallinn:20220531T142500
DTEND;TZID=Europe/Tallinn:20220531T142500
DTSTAMP:20260423T040036
CREATED:20220516T093301Z
LAST-MODIFIED:20240226T150020Z
UID:394-1654007100-1654007100@raamatukogu.otepaa.ee
SUMMARY:Pühajärve põhikoolis külas lastekirjanik KAIRI LOOK
DESCRIPTION:
URL:https://raamatukogu.otepaa.ee/sundmused/kulas-lastekirjanik-kairi-look/
LOCATION:Sihva
ORGANIZER;CN="P%C3%BChaj%C3%A4rve raamatukogu":MAILTO:Ly.Haaviste@otepaa.ee
END:VEVENT
BEGIN:VEVENT
DTSTART;VALUE=DATE:20220419
DTEND;VALUE=DATE:20220420
DTSTAMP:20260423T040036
CREATED:20220411T104808Z
LAST-MODIFIED:20240226T150111Z
UID:256-1650326400-1650412799@raamatukogu.otepaa.ee
SUMMARY:19.04 kell 17.00 Otepää Raamatukogus külas kirjanik ja südamearst Ilmar Särg
DESCRIPTION:
URL:https://raamatukogu.otepaa.ee/sundmused/otepaa-raamatukogus-kulas-kirjanik-ja-sudamearst-ilmar-sarg/
LOCATION:Otepää Linnaraamatukogu\, Lipuväljak 13\, Otepää\, 67403\, Eesti
ORGANIZER;CN="Otep%C3%A4%C3%A4 Linnaramatukogu":MAILTO:Otepaa.Linnaraamatukogu@otepaa.ee
END:VEVENT
END:VCALENDAR