BEGIN:VCALENDAR
VERSION:2.0
PRODID:-//Otepää Raamatukogu - ECPv6.15.20//NONSGML v1.0//EN
CALSCALE:GREGORIAN
METHOD:PUBLISH
X-WR-CALNAME:Otepää Raamatukogu
X-ORIGINAL-URL:https://raamatukogu.otepaa.ee
X-WR-CALDESC:Events for Otepää Raamatukogu
REFRESH-INTERVAL;VALUE=DURATION:PT1H
X-Robots-Tag:noindex
X-PUBLISHED-TTL:PT1H
BEGIN:VTIMEZONE
TZID:Europe/Tallinn
BEGIN:DAYLIGHT
TZOFFSETFROM:+0200
TZOFFSETTO:+0300
TZNAME:EEST
DTSTART:20230326T010000
END:DAYLIGHT
BEGIN:STANDARD
TZOFFSETFROM:+0300
TZOFFSETTO:+0200
TZNAME:EET
DTSTART:20231029T010000
END:STANDARD
BEGIN:DAYLIGHT
TZOFFSETFROM:+0200
TZOFFSETTO:+0300
TZNAME:EEST
DTSTART:20240331T010000
END:DAYLIGHT
BEGIN:STANDARD
TZOFFSETFROM:+0300
TZOFFSETTO:+0200
TZNAME:EET
DTSTART:20241027T010000
END:STANDARD
BEGIN:DAYLIGHT
TZOFFSETFROM:+0200
TZOFFSETTO:+0300
TZNAME:EEST
DTSTART:20250330T010000
END:DAYLIGHT
BEGIN:STANDARD
TZOFFSETFROM:+0300
TZOFFSETTO:+0200
TZNAME:EET
DTSTART:20251026T010000
END:STANDARD
END:VTIMEZONE
BEGIN:VEVENT
DTSTART;VALUE=DATE:20240101
DTEND;VALUE=DATE:20240201
DTSTAMP:20260423T011203
CREATED:20240109T140406Z
LAST-MODIFIED:20240226T143707Z
UID:2073-1704067200-1706745599@raamatukogu.otepaa.ee
SUMMARY:Otepää Linnaraamatukogus näitused "Kirjanik ja lavastaja MATI UNT 80 ja "Tahan kõike teada"
DESCRIPTION:
URL:https://raamatukogu.otepaa.ee/sundmused/otepaa-linnaraamatukogus-naitused-kirjanik-ja-lavastaja-mati-unt-80-ja-tahan-koike-teada/
LOCATION:Otepää Linnaraamatukogu\, Lipuväljak 13\, Otepää\, 67403\, Eesti
ATTACH;FMTTYPE=image/png:https://raamatukogu.otepaa.ee/wp-content/uploads/2024/01/Blue-White-Snow-Hello-Winter-Instagram-Story-min.png
ORGANIZER;CN="Otep%C3%A4%C3%A4 Linnaramatukogu":MAILTO:Otepaa.Linnaraamatukogu@otepaa.ee
END:VEVENT
BEGIN:VEVENT
DTSTART;VALUE=DATE:20240108
DTEND;VALUE=DATE:20240301
DTSTAMP:20260423T011203
CREATED:20240119T185222Z
LAST-MODIFIED:20240226T143654Z
UID:2078-1704672000-1709251199@raamatukogu.otepaa.ee
SUMMARY:XVII Nukitsa konkurss
DESCRIPTION:Eesti Lastekirjanduse Keskus kutsub 5–13-aastaseid lugejaid valima Nukitsa konkursil oma lemmikkirjanikku ja -illustraatorit. Hääletada saab 8. jaanuarist kuni 29. veebruarini 2024 nii raamatukogudes üle Eesti kui keskuse veebilehel.\n \n\n\nhttps://elk.ee/lastekirjandus/auhinnad-voistlused/nukitsa-konkurss-2/xvii-nukitsa-konkurss/xvii-nukitsa-konkursi-haaletusvorm/
URL:https://raamatukogu.otepaa.ee/sundmused/xvii-nukitsa-konkurss/
LOCATION:Kuigatsi raamatukogu\, Kuigatsi Raamatukogu\, Kuigatsi\, 68222\, Eesti
ATTACH;FMTTYPE=image/png:https://raamatukogu.otepaa.ee/wp-content/uploads/2024/01/Nukits_2023_FB_Event_Cover_1920x1005px-01.png
END:VEVENT
BEGIN:VEVENT
DTSTART;VALUE=DATE:20240122
DTEND;VALUE=DATE:20240201
DTSTAMP:20260423T011203
CREATED:20240119T191129Z
LAST-MODIFIED:20240226T143642Z
UID:2084-1705881600-1706745599@raamatukogu.otepaa.ee
SUMMARY:"Mihkel Raud - 55" Väljapanek juubilari loomingust.
DESCRIPTION:Mihkel Raud on eesti laulja\, kitarrist\, endine poliitik\, ajakirjanik ja kirjanik. 2008. aastal ilmus tema autobiograafia “Musta pori näkku”\, milles kujutab naturalistlikult rokkansamblites mängimise aega 1980. aastatel. Teost saatis ülisuur müügiedu\, paari esimese kuuga osteti seda üle 30 000 eksemplari. \n 
URL:https://raamatukogu.otepaa.ee/sundmused/mihkel-raud-55-valjapanek-juubilari-loomingust/
LOCATION:Kuigatsi raamatukogu\, Kuigatsi Raamatukogu\, Kuigatsi\, 68222\, Eesti
ATTACH;FMTTYPE=image/png:https://raamatukogu.otepaa.ee/wp-content/uploads/2024/01/Mihkel-Raud-55.png
END:VEVENT
BEGIN:VEVENT
DTSTART;VALUE=DATE:20240129
DTEND;VALUE=DATE:20240208
DTSTAMP:20260423T011203
CREATED:20240129T152929Z
LAST-MODIFIED:20240226T143629Z
UID:2241-1706486400-1707350399@raamatukogu.otepaa.ee
SUMMARY:Kuigatsi raamatukogus väljapanek "Eesti kirjanduse tähtteoseid".
DESCRIPTION:
URL:https://raamatukogu.otepaa.ee/sundmused/kuigatsi-raamatukogus-valjapanek-eesti-kirjanduse-tahtteoseid/
LOCATION:Kuigatsi raamatukogu\, Kuigatsi Raamatukogu\, Kuigatsi\, 68222\, Eesti
ATTACH;FMTTYPE=image/png:https://raamatukogu.otepaa.ee/wp-content/uploads/2024/01/Teie-loigu-tekst-1-min.png
END:VEVENT
END:VCALENDAR