BEGIN:VCALENDAR
VERSION:2.0
PRODID:-//Otepää Raamatukogu - ECPv6.15.20//NONSGML v1.0//EN
CALSCALE:GREGORIAN
METHOD:PUBLISH
X-ORIGINAL-URL:https://raamatukogu.otepaa.ee
X-WR-CALDESC:Events for Otepää Raamatukogu
REFRESH-INTERVAL;VALUE=DURATION:PT1H
X-Robots-Tag:noindex
X-PUBLISHED-TTL:PT1H
BEGIN:VTIMEZONE
TZID:Europe/Tallinn
BEGIN:DAYLIGHT
TZOFFSETFROM:+0200
TZOFFSETTO:+0300
TZNAME:EEST
DTSTART:20230326T010000
END:DAYLIGHT
BEGIN:STANDARD
TZOFFSETFROM:+0300
TZOFFSETTO:+0200
TZNAME:EET
DTSTART:20231029T010000
END:STANDARD
BEGIN:DAYLIGHT
TZOFFSETFROM:+0200
TZOFFSETTO:+0300
TZNAME:EEST
DTSTART:20240331T010000
END:DAYLIGHT
BEGIN:STANDARD
TZOFFSETFROM:+0300
TZOFFSETTO:+0200
TZNAME:EET
DTSTART:20241027T010000
END:STANDARD
BEGIN:DAYLIGHT
TZOFFSETFROM:+0200
TZOFFSETTO:+0300
TZNAME:EEST
DTSTART:20250330T010000
END:DAYLIGHT
BEGIN:STANDARD
TZOFFSETFROM:+0300
TZOFFSETTO:+0200
TZNAME:EET
DTSTART:20251026T010000
END:STANDARD
END:VTIMEZONE
BEGIN:VEVENT
DTSTART;VALUE=DATE:20240108
DTEND;VALUE=DATE:20240301
DTSTAMP:20260422T233930
CREATED:20240119T185222Z
LAST-MODIFIED:20240226T143654Z
UID:2078-1704672000-1709251199@raamatukogu.otepaa.ee
SUMMARY:XVII Nukitsa konkurss
DESCRIPTION:Eesti Lastekirjanduse Keskus kutsub 5–13-aastaseid lugejaid valima Nukitsa konkursil oma lemmikkirjanikku ja -illustraatorit. Hääletada saab 8. jaanuarist kuni 29. veebruarini 2024 nii raamatukogudes üle Eesti kui keskuse veebilehel.\n \n\n\nhttps://elk.ee/lastekirjandus/auhinnad-voistlused/nukitsa-konkurss-2/xvii-nukitsa-konkurss/xvii-nukitsa-konkursi-haaletusvorm/
URL:https://raamatukogu.otepaa.ee/sundmused/xvii-nukitsa-konkurss/
LOCATION:Kuigatsi raamatukogu\, Kuigatsi Raamatukogu\, Kuigatsi\, 68222\, Eesti
ATTACH;FMTTYPE=image/png:https://raamatukogu.otepaa.ee/wp-content/uploads/2024/01/Nukits_2023_FB_Event_Cover_1920x1005px-01.png
END:VEVENT
BEGIN:VEVENT
DTSTART;VALUE=DATE:20240129
DTEND;VALUE=DATE:20240208
DTSTAMP:20260422T233930
CREATED:20240129T152929Z
LAST-MODIFIED:20240226T143629Z
UID:2241-1706486400-1707350399@raamatukogu.otepaa.ee
SUMMARY:Kuigatsi raamatukogus väljapanek "Eesti kirjanduse tähtteoseid".
DESCRIPTION:
URL:https://raamatukogu.otepaa.ee/sundmused/kuigatsi-raamatukogus-valjapanek-eesti-kirjanduse-tahtteoseid/
LOCATION:Kuigatsi raamatukogu\, Kuigatsi Raamatukogu\, Kuigatsi\, 68222\, Eesti
ATTACH;FMTTYPE=image/png:https://raamatukogu.otepaa.ee/wp-content/uploads/2024/01/Teie-loigu-tekst-1-min.png
END:VEVENT
BEGIN:VEVENT
DTSTART;VALUE=DATE:20240201
DTEND;VALUE=DATE:20240301
DTSTAMP:20260422T233930
CREATED:20240126T102540Z
LAST-MODIFIED:20240226T143617Z
UID:2233-1706745600-1709251199@raamatukogu.otepaa.ee
SUMMARY:Puka raamatukogu raamatunäitused veebruaris
DESCRIPTION:
URL:https://raamatukogu.otepaa.ee/sundmused/puka-raamatukogu-raamatunaitused-veebruaris/
LOCATION:Puka raamatukogu\, Kooli 6\, Puka\, Eesti
ATTACH;FMTTYPE=image/png:https://raamatukogu.otepaa.ee/wp-content/uploads/2024/01/Raamatunaitused-veebruaris-min.png
ORGANIZER;CN="Puka raamatukogu":MAILTO:Ene.Markov@otepaa.ee
END:VEVENT
BEGIN:VEVENT
DTSTART;VALUE=DATE:20240201
DTEND;VALUE=DATE:20240301
DTSTAMP:20260422T233930
CREATED:20240131T181150Z
LAST-MODIFIED:20240226T143604Z
UID:2253-1706745600-1709251199@raamatukogu.otepaa.ee
SUMMARY:Otepää Linnaraamatukogus näitused "Eesti kirjanduse radadel" ja "Palju õnne\, Eestimaa!"
DESCRIPTION:
URL:https://raamatukogu.otepaa.ee/sundmused/otepaa-linnaraamatukogus-naitused-eesti-kirjanduse-radadel-ja-palju-onne-eestimaa/
LOCATION:Otepää Linnaraamatukogu\, Lipuväljak 13\, Otepää\, 67403\, Eesti
ATTACH;FMTTYPE=image/jpeg:https://raamatukogu.otepaa.ee/wp-content/uploads/2024/01/naitused_page-0001-min-jpg.webp
ORGANIZER;CN="Otep%C3%A4%C3%A4 Linnaramatukogu":MAILTO:Otepaa.Linnaraamatukogu@otepaa.ee
END:VEVENT
BEGIN:VEVENT
DTSTART;VALUE=DATE:20240222
DTEND;VALUE=DATE:20240223
DTSTAMP:20260422T233930
CREATED:20240222T143110Z
LAST-MODIFIED:20240226T143312Z
UID:2648-1708560000-1708646399@raamatukogu.otepaa.ee
SUMMARY:Epp Petrone kohtumine Keeni põhikooli kooliperega\, üritust korraldab Keeni raamatukogu.
DESCRIPTION:
URL:https://raamatukogu.otepaa.ee/sundmused/epp-petrone-kohtumine-keeni-pohikooli-kooliperega-uritust-korraldab-keeni-raamatukogu/
LOCATION:Keeni kool\, Kooli tee 2\, Keeni\, Eesti
ATTACH;FMTTYPE=image/jpeg:https://raamatukogu.otepaa.ee/wp-content/uploads/2024/02/Epp-Petrone-podcast-jpg.webp
ORGANIZER;CN="Keeni raamatukogu":MAILTO:Heili.Kalbri@otepaa.ee
END:VEVENT
BEGIN:VEVENT
DTSTART;TZID=Europe/Tallinn:20240222T173000
DTEND;TZID=Europe/Tallinn:20240222T173000
DTSTAMP:20260422T233930
CREATED:20240222T143443Z
LAST-MODIFIED:20240226T143256Z
UID:2656-1708623000-1708623000@raamatukogu.otepaa.ee
SUMMARY:Sangaste raamatukogus Epp Petrone loeng "Juurtest lugudeni".
DESCRIPTION:Epp Petrone on ise tegelenud oma suguvõsalugude leidmisega ja kokku kirjutamisega ja talle meeldib ka teisi inspireerida seda tegema. Just sellise teemaringi soovime Sangastes koos ette võtta ja aja jooksul sellega edasi liikuda. \nOn väga oluline luua sidemeid noorte ja vanemate põlvkondade vahel ning selleks on parimad meiega juhtunud lood. Tihti küll räägitakse neid edasi\, kuid samas ilma kirja panemata lähevad need vahel kaduma ning ikka tahaksime nende kohta küsida siis kui kipub hilja olema. Seega soovime motiveerida\, julgustada ja õpetada inimesi oma lugusid jäädvustama. Raamatukogul on aga omakorda väga suur huvi teie lugusid kuulda ja vahel ka koguda\, sest need sisaldavad tihti meie piirkonna ajalugu. \nOodatud on ka need\, kes aktiivselt lugudega tegeleda ei soovi \, vaid tahavad külalisega kohtumist lihtsalt nautida. Tule ja võta sõber kaasa\, sest koos olemises on väge.
URL:https://raamatukogu.otepaa.ee/sundmused/sangaste-raamatukogus-epp-petrone-loeng-juurtest-lugudeni/
LOCATION:Sangaste raamatukogu\, Valga mnt 7\, Sangaste\, 67013\, Eesti
ATTACH;FMTTYPE=image/jpeg:https://raamatukogu.otepaa.ee/wp-content/uploads/2024/02/epp-petrone-veebi-min-scaled.webp
ORGANIZER;CN="Sangaste raamatukogu":MAILTO:Heili.Kalbri@otepaa.ee
END:VEVENT
BEGIN:VEVENT
DTSTART;TZID=Europe/Tallinn:20240228T120000
DTEND;TZID=Europe/Tallinn:20240228T133000
DTSTAMP:20260422T233930
CREATED:20240226T141916Z
LAST-MODIFIED:20240228T093120Z
UID:2689-1709121600-1709127000@raamatukogu.otepaa.ee
SUMMARY:Riigikogu liikme Igor Taro kõnetund Nõuni raamatukogus
DESCRIPTION:Olukorrast riigis\nOlukorrast Ukrainas\nKodanike küsimused
URL:https://raamatukogu.otepaa.ee/sundmused/riigikogu-liikme-igor-taro-konetund-2/
LOCATION:Nõuni raamatukogu\, Nõuni kultuurimaja\, Nõuni\, Nõuni\, Eesti
ATTACH;FMTTYPE=image/png:https://raamatukogu.otepaa.ee/wp-content/uploads/2024/02/Igor-Otepaal-A4-min.png
END:VEVENT
BEGIN:VEVENT
DTSTART;TZID=Europe/Tallinn:20240228T140000
DTEND;TZID=Europe/Tallinn:20240228T153000
DTSTAMP:20260422T233930
CREATED:20240226T142047Z
LAST-MODIFIED:20240228T093714Z
UID:2694-1709128800-1709134200@raamatukogu.otepaa.ee
SUMMARY:Riigikogu liikme Igor Taro kõnetund Sangaste raamatukogus
DESCRIPTION:Olukorrast riigis\nOlukorrast Ukrainas\nKodanike küsimused
URL:https://raamatukogu.otepaa.ee/sundmused/riigikogu-liikme-igor-taro-konetund-3/
LOCATION:Sangaste raamatukogu\, Valga mnt 7\, Sangaste\, 67013\, Eesti
ATTACH;FMTTYPE=image/png:https://raamatukogu.otepaa.ee/wp-content/uploads/2024/02/Igor-Otepaal-A4-min.png
ORGANIZER;CN="Sangaste raamatukogu":MAILTO:Heili.Kalbri@otepaa.ee
END:VEVENT
BEGIN:VEVENT
DTSTART;TZID=Europe/Tallinn:20240228T160000
DTEND;TZID=Europe/Tallinn:20240228T173000
DTSTAMP:20260422T233930
CREATED:20240219T110926Z
LAST-MODIFIED:20240228T093100Z
UID:2634-1709136000-1709141400@raamatukogu.otepaa.ee
SUMMARY:Riigikogu liikme Igor Taro kõnetund Puka raamatukogus
DESCRIPTION:Olukorrast riigis\nOlukorrast Ukrainas\nKodanike küsimused
URL:https://raamatukogu.otepaa.ee/sundmused/riigikogu-liikme-igor-taro-konetund/
LOCATION:Puka raamatukogu\, Kooli 6\, Puka\, Eesti
ATTACH;FMTTYPE=image/png:https://raamatukogu.otepaa.ee/wp-content/uploads/2024/02/Igor-Otepaal-A4-min.png
ORGANIZER;CN="Puka raamatukogu":MAILTO:Ene.Markov@otepaa.ee
END:VEVENT
END:VCALENDAR