BEGIN:VCALENDAR
VERSION:2.0
PRODID:-//Otepää Raamatukogu - ECPv6.15.20//NONSGML v1.0//EN
CALSCALE:GREGORIAN
METHOD:PUBLISH
X-ORIGINAL-URL:https://raamatukogu.otepaa.ee
X-WR-CALDESC:Events for Otepää Raamatukogu
REFRESH-INTERVAL;VALUE=DURATION:PT1H
X-Robots-Tag:noindex
X-PUBLISHED-TTL:PT1H
BEGIN:VTIMEZONE
TZID:Europe/Tallinn
BEGIN:DAYLIGHT
TZOFFSETFROM:+0200
TZOFFSETTO:+0300
TZNAME:EEST
DTSTART:20230326T010000
END:DAYLIGHT
BEGIN:STANDARD
TZOFFSETFROM:+0300
TZOFFSETTO:+0200
TZNAME:EET
DTSTART:20231029T010000
END:STANDARD
BEGIN:DAYLIGHT
TZOFFSETFROM:+0200
TZOFFSETTO:+0300
TZNAME:EEST
DTSTART:20240331T010000
END:DAYLIGHT
BEGIN:STANDARD
TZOFFSETFROM:+0300
TZOFFSETTO:+0200
TZNAME:EET
DTSTART:20241027T010000
END:STANDARD
BEGIN:DAYLIGHT
TZOFFSETFROM:+0200
TZOFFSETTO:+0300
TZNAME:EEST
DTSTART:20250330T010000
END:DAYLIGHT
BEGIN:STANDARD
TZOFFSETFROM:+0300
TZOFFSETTO:+0200
TZNAME:EET
DTSTART:20251026T010000
END:STANDARD
END:VTIMEZONE
BEGIN:VEVENT
DTSTART;VALUE=DATE:20240315
DTEND;VALUE=DATE:20240501
DTSTAMP:20260422T202050
CREATED:20240319T191712Z
LAST-MODIFIED:20240319T191712Z
UID:3010-1710460800-1714521599@raamatukogu.otepaa.ee
SUMMARY:Sangaste raamatukogus raamatunäitus „Maal on mõnus elada!“
DESCRIPTION:Miks inimetele meeldib maal elada ja kas siin on hea elada? \nKuidas raamatukogu raamatu näol või oma tegevusega sellele mõnusale olemisele kaasa saab aidata? \nLisainfo: Keeni ja Sangaste raamatukoguhoidja Heili Kalbri\, tel 5307 2043
URL:https://raamatukogu.otepaa.ee/sundmused/sangaste-raamatukogus-raamatunaitus-maal-on-monus-elada/
LOCATION:Sangaste raamatukogu\, Valga mnt 7\, Sangaste\, 67013\, Eesti
ATTACH;FMTTYPE=image/webp:https://raamatukogu.otepaa.ee/wp-content/uploads/2024/03/boys-kids-reading-3396713-jpg.webp
ORGANIZER;CN="Sangaste raamatukogu":MAILTO:Heili.Kalbri@otepaa.ee
END:VEVENT
BEGIN:VEVENT
DTSTART;VALUE=DATE:20240315
DTEND;VALUE=DATE:20240501
DTSTAMP:20260422T202050
CREATED:20240319T191900Z
LAST-MODIFIED:20240319T193805Z
UID:3013-1710460800-1714521599@raamatukogu.otepaa.ee
SUMMARY:Keeni raamatukogus raamatunäitus „Vanavanemate lemmik lasteraamat nende lapsepõlvest“
DESCRIPTION:Tutvume vanade lasteraamatutega ning lastel võimalik vanavanematega dialoogi luua ja lugusid kuulata. \nLisainfo: Keeni ja Sangaste raamatukoguhoidja Heili Kalbri\, tel 5307 2043
URL:https://raamatukogu.otepaa.ee/sundmused/keeni-raamatukogus-raamatunaitus-vanavanemate-lemmik-lasteraamat-nende-lapsepolvest/
LOCATION:Keeni raamatukogu\, Keeni tee 12\, Keeni\, 67012\, Eesti
ATTACH;FMTTYPE=image/webp:https://raamatukogu.otepaa.ee/wp-content/uploads/2024/03/book-pet-dog-794978-jpg.webp
ORGANIZER;CN="Keeni raamatukogu":MAILTO:Heili.Kalbri@otepaa.ee
END:VEVENT
BEGIN:VEVENT
DTSTART;VALUE=DATE:20240320
DTEND;VALUE=DATE:20240501
DTSTAMP:20260422T202050
CREATED:20240319T181757Z
LAST-MODIFIED:20240319T181827Z
UID:3006-1710892800-1714521599@raamatukogu.otepaa.ee
SUMMARY:Kuigatsi raamatukogus raamatuväljapanek aiandushuvilistele "Kevad aias"
DESCRIPTION:Kevad on ukse ees ja see tähendab\, et varsti on aeg alustada aiatöödega. 👩‍🌾🧑‍🌾
URL:https://raamatukogu.otepaa.ee/sundmused/kuigatsi-raamatukogus-raamatuvaljapanek-kevad-aias/
LOCATION:Kuigatsi raamatukogu\, Kuigatsi Raamatukogu\, Kuigatsi\, 68222\, Eesti
ATTACH;FMTTYPE=image/webp:https://raamatukogu.otepaa.ee/wp-content/uploads/2024/03/Kevad-aias-min.webp
END:VEVENT
BEGIN:VEVENT
DTSTART;VALUE=DATE:20240401
DTEND;VALUE=DATE:20240501
DTSTAMP:20260422T202050
CREATED:20240327T183705Z
LAST-MODIFIED:20240327T191036Z
UID:3104-1711929600-1714521599@raamatukogu.otepaa.ee
SUMMARY:Puka raamatukogus raamatunäitused \,\,Lõbusat lugemist igale perele ja \,\,On kevadpäike soojendamas hinge - kevad Eesti luules"
DESCRIPTION:
URL:https://raamatukogu.otepaa.ee/sundmused/puka-raamatukogus-raamatunaitused-lobusat-lugemist-igale-perele-ja-on-kevadpaike-soojendamas-hinge-kevad-eesti-luules/
LOCATION:Puka raamatukogu\, Kooli 6\, Puka\, Eesti
ATTACH;FMTTYPE=image/webp:https://raamatukogu.otepaa.ee/wp-content/uploads/2024/03/aprill-rams-uus-min.webp
ORGANIZER;CN="Puka raamatukogu":MAILTO:Ene.Markov@otepaa.ee
END:VEVENT
BEGIN:VEVENT
DTSTART;VALUE=DATE:20240401
DTEND;VALUE=DATE:20240501
DTSTAMP:20260422T202050
CREATED:20240327T184002Z
LAST-MODIFIED:20240327T191009Z
UID:3107-1711929600-1714521599@raamatukogu.otepaa.ee
SUMMARY:Otepää Linnaraamatukogus näitused \,\,PALJU ÕNNE\, OTEPÄÄ!" ja \,\,KEVAD"
DESCRIPTION:
URL:https://raamatukogu.otepaa.ee/sundmused/otepaa-linnaraamatukogus-naitused-palju-onne-otepaa-ja-kevad/
LOCATION:Otepää Linnaraamatukogu\, Lipuväljak 13\, Otepää\, 67403\, Eesti
ATTACH;FMTTYPE=image/webp:https://raamatukogu.otepaa.ee/wp-content/uploads/2024/03/Otepaa-Linnaraamatukogus-1-min.webp
ORGANIZER;CN="Otep%C3%A4%C3%A4 Linnaramatukogu":MAILTO:Otepaa.Linnaraamatukogu@otepaa.ee
END:VEVENT
END:VCALENDAR