BEGIN:VCALENDAR
VERSION:2.0
PRODID:-//Otepää Raamatukogu - ECPv6.15.20//NONSGML v1.0//EN
CALSCALE:GREGORIAN
METHOD:PUBLISH
X-ORIGINAL-URL:https://raamatukogu.otepaa.ee
X-WR-CALDESC:Events for Otepää Raamatukogu
REFRESH-INTERVAL;VALUE=DURATION:PT1H
X-Robots-Tag:noindex
X-PUBLISHED-TTL:PT1H
BEGIN:VTIMEZONE
TZID:Europe/Tallinn
BEGIN:DAYLIGHT
TZOFFSETFROM:+0200
TZOFFSETTO:+0300
TZNAME:EEST
DTSTART:20230326T010000
END:DAYLIGHT
BEGIN:STANDARD
TZOFFSETFROM:+0300
TZOFFSETTO:+0200
TZNAME:EET
DTSTART:20231029T010000
END:STANDARD
BEGIN:DAYLIGHT
TZOFFSETFROM:+0200
TZOFFSETTO:+0300
TZNAME:EEST
DTSTART:20240331T010000
END:DAYLIGHT
BEGIN:STANDARD
TZOFFSETFROM:+0300
TZOFFSETTO:+0200
TZNAME:EET
DTSTART:20241027T010000
END:STANDARD
BEGIN:DAYLIGHT
TZOFFSETFROM:+0200
TZOFFSETTO:+0300
TZNAME:EEST
DTSTART:20250330T010000
END:DAYLIGHT
BEGIN:STANDARD
TZOFFSETFROM:+0300
TZOFFSETTO:+0200
TZNAME:EET
DTSTART:20251026T010000
END:STANDARD
END:VTIMEZONE
BEGIN:VEVENT
DTSTART;VALUE=DATE:20240617
DTEND;VALUE=DATE:20240801
DTSTAMP:20260422T153606
CREATED:20240613T143137Z
LAST-MODIFIED:20240613T143137Z
UID:3375-1718582400-1722470399@raamatukogu.otepaa.ee
SUMMARY:Kohvernäitus "Pikk-pikk teekond"
DESCRIPTION:Kohvernäitus “Pikk-pikk teekond”\, mis jutustab mänguliselt ning kaasahaaravalt lugusid Ilonist ja tema illustreeritud raamatutest. Näitus käsitleb illustraatori Ilon Wiklandi elutee lapsepõlve ja loomingut ning jutustab llon Wiklandi elutee pöördelistest sündmustes ja selle sisu avab viie põhiteema kaudu\, kuidas ande\, töökuse\, tahte ja hea õnne läbi sai sõjapõgenikust maailmakuulus illustraator. Viis põnevat värvilist kohvrit aitavad lähemalt tuttavaks saada Ilon Wiklandi elu ja loominguga. Kõik on väga oodatud!
URL:https://raamatukogu.otepaa.ee/sundmused/kohvernaitus-pikk-pikk-teekond/
LOCATION:Kuigatsi raamatukogu\, Kuigatsi Raamatukogu\, Kuigatsi\, 68222\, Eesti
ATTACH;FMTTYPE=image/webp:https://raamatukogu.otepaa.ee/wp-content/uploads/2024/06/KOHVERNAITUS-PIKK-PIKK-TEEKOND-min.webp
END:VEVENT
BEGIN:VEVENT
DTSTART;VALUE=DATE:20240701
DTEND;VALUE=DATE:20240801
DTSTAMP:20260422T153606
CREATED:20240703T123742Z
LAST-MODIFIED:20240703T124634Z
UID:3428-1719792000-1722470399@raamatukogu.otepaa.ee
SUMMARY:Puka raamatuväljapanek põnevat ja lõbusat lugemist suveks autorilt Ilmar Tomusk
DESCRIPTION:
URL:https://raamatukogu.otepaa.ee/sundmused/puka-raamatukogus-raamatuvaljapanek/
LOCATION:Puka raamatukogu\, Kooli 6\, Puka\, Eesti
ATTACH;FMTTYPE=image/webp:https://raamatukogu.otepaa.ee/wp-content/uploads/2024/07/448606650_907949874394704_3976208998300085080_n-min.webp
ORGANIZER;CN="Puka raamatukogu":MAILTO:Ene.Markov@otepaa.ee
END:VEVENT
END:VCALENDAR